BEGIN:VCALENDAR
VERSION:2.0
PRODID:-//La Negación de San Pedro - ECPv6.15.18//NONSGML v1.0//EN
CALSCALE:GREGORIAN
METHOD:PUBLISH
X-WR-CALNAME:La Negación de San Pedro
X-ORIGINAL-URL:https://lanegaciondesanpedro.es
X-WR-CALDESC:Eventos para La Negación de San Pedro
REFRESH-INTERVAL;VALUE=DURATION:PT1H
X-Robots-Tag:noindex
X-PUBLISHED-TTL:PT1H
BEGIN:VTIMEZONE
TZID:Europe/Helsinki
BEGIN:DAYLIGHT
TZOFFSETFROM:+0200
TZOFFSETTO:+0300
TZNAME:EEST
DTSTART:20250330T010000
END:DAYLIGHT
BEGIN:STANDARD
TZOFFSETFROM:+0300
TZOFFSETTO:+0200
TZNAME:EET
DTSTART:20251026T010000
END:STANDARD
BEGIN:DAYLIGHT
TZOFFSETFROM:+0200
TZOFFSETTO:+0300
TZNAME:EEST
DTSTART:20260329T010000
END:DAYLIGHT
BEGIN:STANDARD
TZOFFSETFROM:+0300
TZOFFSETTO:+0200
TZNAME:EET
DTSTART:20261025T010000
END:STANDARD
BEGIN:DAYLIGHT
TZOFFSETFROM:+0200
TZOFFSETTO:+0300
TZNAME:EEST
DTSTART:20270328T010000
END:DAYLIGHT
BEGIN:STANDARD
TZOFFSETFROM:+0300
TZOFFSETTO:+0200
TZNAME:EET
DTSTART:20271031T010000
END:STANDARD
END:VTIMEZONE
BEGIN:VTIMEZONE
TZID:Europe/Paris
BEGIN:DAYLIGHT
TZOFFSETFROM:+0100
TZOFFSETTO:+0200
TZNAME:CEST
DTSTART:20250330T010000
END:DAYLIGHT
BEGIN:STANDARD
TZOFFSETFROM:+0200
TZOFFSETTO:+0100
TZNAME:CET
DTSTART:20251026T010000
END:STANDARD
BEGIN:DAYLIGHT
TZOFFSETFROM:+0100
TZOFFSETTO:+0200
TZNAME:CEST
DTSTART:20260329T010000
END:DAYLIGHT
BEGIN:STANDARD
TZOFFSETFROM:+0200
TZOFFSETTO:+0100
TZNAME:CET
DTSTART:20261025T010000
END:STANDARD
BEGIN:DAYLIGHT
TZOFFSETFROM:+0100
TZOFFSETTO:+0200
TZNAME:CEST
DTSTART:20270328T010000
END:DAYLIGHT
BEGIN:STANDARD
TZOFFSETFROM:+0200
TZOFFSETTO:+0100
TZNAME:CET
DTSTART:20271031T010000
END:STANDARD
END:VTIMEZONE
BEGIN:VTIMEZONE
TZID:Europe/Madrid
BEGIN:DAYLIGHT
TZOFFSETFROM:+0100
TZOFFSETTO:+0200
TZNAME:CEST
DTSTART:20250330T010000
END:DAYLIGHT
BEGIN:STANDARD
TZOFFSETFROM:+0200
TZOFFSETTO:+0100
TZNAME:CET
DTSTART:20251026T010000
END:STANDARD
BEGIN:DAYLIGHT
TZOFFSETFROM:+0100
TZOFFSETTO:+0200
TZNAME:CEST
DTSTART:20260329T010000
END:DAYLIGHT
BEGIN:STANDARD
TZOFFSETFROM:+0200
TZOFFSETTO:+0100
TZNAME:CET
DTSTART:20261025T010000
END:STANDARD
BEGIN:DAYLIGHT
TZOFFSETFROM:+0100
TZOFFSETTO:+0200
TZNAME:CEST
DTSTART:20270328T010000
END:DAYLIGHT
BEGIN:STANDARD
TZOFFSETFROM:+0200
TZOFFSETTO:+0100
TZNAME:CET
DTSTART:20271031T010000
END:STANDARD
END:VTIMEZONE
BEGIN:VEVENT
DTSTART;TZID=Europe/Helsinki:20260207T200000
DTEND;TZID=Europe/Helsinki:20260207T200000
DTSTAMP:20260420T234038
CREATED:20260115T070035Z
LAST-MODIFIED:20260127T123221Z
UID:6047-1770494400-1770494400@lanegaciondesanpedro.es
SUMMARY:Presentación del cartel de Semana Santa 2026
DESCRIPTION:20:00 HORAS. AUDITORIO JOSÉ LUIS PERALES DE CUENCA \nEl sacerdote\, arquitecto y consiliario de nuestra Hermandad\, D. Pedro José Ruiz\, será el Cartelista de la Semana Santa de Cuenca de 2026. \nSerá además pionero\, pues se trata del primer sacerdote elegido por designación directa en diseñar el Cartel de nuestra Pasión (en 1962 ya lo diseñó el sacerdote Silvino Navalón\, aunque en este caso fue el ganador del Concurso de Carteles de Semana Santa). Así como el oficio de Pregonero ha sido desempeñado por varios religiosos a lo largo de los años\, el de Cartelista solo había recaído hasta ahora en un miembro de la jerarquía de la Iglesia y por concurso. Pedro José se mostraba muy agradecido e ilusionado en sus primeras declaraciones y afirmaba tener ya la idea base a partir de la que desarrollará el Cartel. \n“Me ha hecho ilusión. Al principio\, cuando me dijeron desde las hermandades me daba vértigo\, aunque no era la primera vez que me lo proponían. Ahora que ya es oficial estoy súper ilusionado y con ganas de ponerme manos a la obra”\, aseguraba en declaraciones. Ruiz afirmaba que la de ser Cartelista “es una gran responsabilidad”\, y atribuía la elección al cariño de las hermandades y a su cercanía con la Semana Santa\, sin olvidar el peso específico de su faceta artística: “Creo que se han movido más por el cariño\, aunque también es verdad que conocen mi trabajo porque he hecho cosas para las hermandades\, parroquias\, para la Diócesis…”. Aunque estos trabajos “no tienen nada que ver con el Cartel Oficial de la Semana Santa”\, sí que suponen un bagaje que se sustenta principalmente en el diseño y la fotografía y se cimenta sobre la base de la arquitectura\, que es “la que me ha dado acceso a artistas y la que me ha permitido dibujar y pintar”.
URL:https://lanegaciondesanpedro.es/eventos/presentacion-del-cartel-de-semana-santa-2026/
LOCATION:Teatro Auditorio de Cuenca\, Cuenca\, Cuenca\, Spain
ATTACH;FMTTYPE=image/jpeg:https://lanegaciondesanpedro.es/wp-content/uploads/2025/03/20250322_173516-scaled.jpg
END:VEVENT
BEGIN:VEVENT
DTSTART;TZID=Europe/Paris:20260218T203000
DTEND;TZID=Europe/Paris:20260218T203000
DTSTAMP:20260420T234038
CREATED:20250421T100020Z
LAST-MODIFIED:20260122T082507Z
UID:6055-1771446600-1771446600@lanegaciondesanpedro.es
SUMMARY:Miércoles de Ceniza 2026
DESCRIPTION:Dentro de su programa cuaresmal de actos y cultos\, la Junta de Cofradías de la Semana Santa de Cuenca organiza su tradicional Misa de imposición de Ceniza. Será en el Convento Madres Concepcionistas a las 20:30 horas. Oficiará el obispo de la Diócesis\, monseñor José María Yanguas; acompañará musicalmente el Coro de la Capilla de Música de la Catedral de Cuenca.
URL:https://lanegaciondesanpedro.es/eventos/miercoles-de-ceniza-2026/
LOCATION:Convento Madres Concepcionistas\, Puerta de Valencia\, Cuenca\, Cuenca\, Spain
CATEGORIES:Actos Cuaresmales
ATTACH;FMTTYPE=image/jpeg:https://lanegaciondesanpedro.es/wp-content/uploads/2025/02/mid_1122-537-la-junta-cofradias-organiza-su-tradicional-misa-imposicion-ceniza.jpg
END:VEVENT
BEGIN:VEVENT
DTSTART;TZID=Europe/Madrid:20260220T191500
DTEND;TZID=Europe/Madrid:20260220T191500
DTSTAMP:20260420T234038
CREATED:20260122T092915Z
LAST-MODIFIED:20260129T125254Z
UID:7556-1771614900-1771614900@lanegaciondesanpedro.es
SUMMARY:Vía Crucis del Amarrado 2026
DESCRIPTION:El próximo 20 de febrero\, primer viernes de Cuaresma\, la Ilustre y Venerable Hermandad de Nuestro Padre Jesús Amarrado a la Columna celebrará su tradicional Vía Crucis por las calles del barrio de San Antón\, una cita nazarena muy esperada. \nComo es tradicional\, en primer lugar se celebrará la Santa Misa en la iglesia de la Virgen de la Luz a las 19:15 horas y a su término\, a las 20:00 horas\, comenzará el Vía Crucis con la imagen titular de la Hermandad.
URL:https://lanegaciondesanpedro.es/eventos/via-crucis-del-amarrado-2026/
LOCATION:Iglesia de San Antón\, Cuenca\, Cuenca\, 16001\, Spain
ATTACH;FMTTYPE=image/jpeg:https://lanegaciondesanpedro.es/wp-content/uploads/2026/01/1000580972.jpg
END:VEVENT
BEGIN:VEVENT
DTSTART;TZID=Europe/Paris:20260221T200000
DTEND;TZID=Europe/Paris:20260221T200000
DTSTAMP:20260420T234038
CREATED:20250421T100343Z
LAST-MODIFIED:20260122T084127Z
UID:6057-1771704000-1771704000@lanegaciondesanpedro.es
SUMMARY:Concierto de Inicio de Cuaresma 2026
DESCRIPTION:La Sociedad Filarmónica Ntra. Sra. de La Oliva de Salteras\, interpretará el Concierto de inicio de Cuaresma de este año.\n\nLa cita será a las 20 horas del próximo 21 de febrero\, primer sábado de Cuaresma\, en el Teatro Auditorio ‘José Luis Perales’ de la capital
URL:https://lanegaciondesanpedro.es/eventos/concierto-de-inicio-de-cuaresma-2/
LOCATION:Teatro Auditorio de Cuenca\, Cuenca\, Cuenca\, Spain
CATEGORIES:Actos Cuaresmales
ATTACH;FMTTYPE=image/jpeg:https://lanegaciondesanpedro.es/wp-content/uploads/2025/04/RXKAFMRBTFO6RLWKRSBZYBLMXY.jpg
END:VEVENT
BEGIN:VEVENT
DTSTART;TZID=Europe/Madrid:20260226T200000
DTEND;TZID=Europe/Madrid:20260226T200000
DTSTAMP:20260420T234038
CREATED:20260122T084315Z
LAST-MODIFIED:20260122T084350Z
UID:7538-1772136000-1772136000@lanegaciondesanpedro.es
SUMMARY:Presentación Publicaciones oficiales Semana Santa 2026
DESCRIPTION:Presentación de las Publicaciones oficiales Semana Santa 2026
URL:https://lanegaciondesanpedro.es/eventos/presentacion-publicaciones-oficiales-semana-santa-2026/
LOCATION:Edificio Museo de la Junta de Cofradías\, C/ Andrés de Cabrera\, 13\, Cuenca\, Cuenca\, Spain
END:VEVENT
BEGIN:VEVENT
DTSTART;TZID=Europe/Madrid:20260228T110000
DTEND;TZID=Europe/Madrid:20260228T110000
DTSTAMP:20260420T234038
CREATED:20260122T090952Z
LAST-MODIFIED:20260127T125040Z
UID:7548-1772276400-1772276400@lanegaciondesanpedro.es
SUMMARY:Procesión Extraordinaria -75 aniversario de la Exaltación-
DESCRIPTION:La V. H. del Stmo. Cristo del Perdón celebra su 75º Aniversario.\nInvitación a participar en la procesión a todas las hermandades\, para acudir\, si lo desean\, con sus cabeceras y hermanos mayores. \nLa conmemoración arrancará con la Santa misa a las 11:00 horas. Finalizada la celebración eucarística\, a las 11:45 horas está prevista la salida procesional con el Paso de La Exaltación\, arropado por sus hermanos y la cabecera procesional de la Hermandad. \nAbrirá cortejo la Banda de Trompetas y Tambores de la Junta de Cofradías\, seguida de los guiones y estandartes de todas las hermandades invitadas. A continuación\, la cabecera de La Exaltación y los hermanos que quieran participar en la procesión. Como cierre\, detrás del paso acompañará musicalmente la Agrupación Musical Alfonso Octavas. \nEn cuanto al recorrido\, desde San Esteban el cortejo enfilará por Carretería\, siendo este comienzo un guiño histórico\, pues recordará a la dirección que seguía la procesión de En el Calvario en 1951\, cuando el paso de La Exaltación llegó a Cuenca para unirse a ella. El cortejo proseguirá por Carretería hasta la Plaza de la Constitución\, girando en este punto por Fray Luis de León para transcurrir por Los Tintes hasta la Puerta de Valencia. Desde aquí\, se dirigirá la procesión por Las Torres y Aguirre\, para regresar a San Esteban. \nNOTA: Los Hermanos interesados en portar Insignias y Enseres de la Hermandad deberán contactar con la Junta de Diputación para su organización\, mediante el siguiente formulario\, RR.SS.\, al mail lanegaciondesanpedro@gmail.com \, o bien al Secretario\, telf 649484464\, antes del 20 de febrero. \nPor favor\, activa JavaScript en tu navegador para completar este formulario.Nombre y apellidos *NombreApellidosEmail *Asunto *Mensaje *Enviar
URL:https://lanegaciondesanpedro.es/eventos/procesion-extraordinaria-75-aniversario-del-paso-de-la-exaltacion/
LOCATION:Iglesia de San Esteban\, Cuenca\, Cuenca\, 16001\, Spain
ATTACH;FMTTYPE=image/jpeg:https://lanegaciondesanpedro.es/wp-content/uploads/2026/01/mid_1349-353-la-v-h-del-stmo-cristo-del-perdon-celebra-su-75-aniversario-con-una-procesion-extraordinaria-en-febrero.jpg
END:VEVENT
BEGIN:VEVENT
DTSTART;TZID=Europe/Paris:20260307T173000
DTEND;TZID=Europe/Paris:20260307T173000
DTSTAMP:20260420T234038
CREATED:20250421T095830Z
LAST-MODIFIED:20260206T093925Z
UID:6053-1772904600-1772904600@lanegaciondesanpedro.es
SUMMARY:Junta General de la Hermandad 2026
DESCRIPTION:17:30 horas. JUNTA GENERAL ORDINARIA. «De Cuaresma«. SALA DE JUNTAS MARCO PÉREZ. Edificio Museo de la JdC\, Piso 3º (entrada por la Calle del Peso). \nPuntos a tratar\, entre otros: \nLectura y aprobación\, si procede\, del borrador del acta de la sesión anterior. Alocución del M.I. Consiliario de nuestra Hermandad. \nInformes de la Junta de Diputación (del Representante ante la Junta de Cofradías\, de Tesorería y del Secretario). \nOrden procesional Miércoles Santo 2026. Actos y Cultos de Cuaresma 2026. \nSubasta de Banzos y enseres no abonados para la procesión de 2026. \nRuegos y Preguntas. \n \n 
URL:https://lanegaciondesanpedro.es/eventos/junta-general-de-la-hermandad-2026/
LOCATION:Edificio Museo de la Junta de Cofradías\, C/ Andrés de Cabrera\, 13\, Cuenca\, Cuenca\, Spain
CATEGORIES:Juntas Generales
ATTACH;FMTTYPE=image/jpeg:https://lanegaciondesanpedro.es/wp-content/uploads/2025/04/Actos2026_portada.jpg
END:VEVENT
BEGIN:VEVENT
DTSTART;TZID=Europe/Paris:20260308T123000
DTEND;TZID=Europe/Paris:20260308T123000
DTSTAMP:20260420T234038
CREATED:20250421T100712Z
LAST-MODIFIED:20260206T093648Z
UID:6062-1772973000-1772973000@lanegaciondesanpedro.es
SUMMARY:Solemne Función Religiosa 2026
DESCRIPTION:12:30 horas. – SOLEMNE FUNCIÓN RELIGIOSA – Iglesia de San Pedro. \nEn honor a nuestra Venerable Imagen. Oficiada por el M.I. D. PEDRO JOSÉ RUIZ SORIA\, Consiliario de Ntra. Ilustre y Venerable Hermandad. \nSe efectuará el tradicional y solemne relevo de los Hermanos Mayores con entrega de cetros. \nMisa cantada por el Coro SOTTOVOCE de Cuenca. \nSolemnes Actos y Cultos_2026 / La Negación de San Pedro.
URL:https://lanegaciondesanpedro.es/eventos/solemne-funcion-religiosa-2026/
LOCATION:Iglesia de San Pedro\, plaza del trabuco\, Cuenca\, cuenca\, 16001\, Spain
CATEGORIES:Solemnes Cultos
ATTACH;FMTTYPE=image/jpeg:https://lanegaciondesanpedro.es/wp-content/uploads/2025/03/WhatsApp-Image-2025-03-24-at-19.05.17-3.jpeg
END:VEVENT
BEGIN:VEVENT
DTSTART;TZID=Europe/Paris:20260308T143000
DTEND;TZID=Europe/Paris:20260308T143000
DTSTAMP:20260420T234038
CREATED:20250421T100839Z
LAST-MODIFIED:20260206T093547Z
UID:6064-1772980200-1772980200@lanegaciondesanpedro.es
SUMMARY:Tradicional comida de Hermandad 2026
DESCRIPTION:14:30 horas. – TRADICIONAL COMIDA DE HERMANDAD – Restaurante Mesón “LOS ALFARES”. Avda. San Julián\, 3. \nNOTAS PARA LA COMIDA DE HERMANDAD: \n\n\n\nLas invitaciones para la comida\, adultos 25€\, infantil 15€\, se podrán reservar con antelación\, contactando con los Miembros de la Junta Directiva\, hasta el día 03 de marzo.\nCon cada invitación\, se obsequiará con un número para participar en el\, ya tradicional\, sorteo de una escultura de cerámica con motivos alusivos a nuestra Hermandad\, donada por nuestro hermano y reconocido maestro artesano TOMÁS BUX.\nSolemnes Actos y Cultos_2026 / La Negación de San Pedro.
URL:https://lanegaciondesanpedro.es/eventos/tradicional-comida-de-hermandad-2026/
LOCATION:Mesón Los Alfares\, Avda. San Julián. 3\, Cuenca\, cuenca\, 16002\, Spain
CATEGORIES:Eventos y Actividades de la Hermandad
ATTACH;FMTTYPE=image/jpeg:https://lanegaciondesanpedro.es/wp-content/uploads/2025/03/WhatsApp-Image-2025-03-24-at-19.05.23.jpeg
END:VEVENT
BEGIN:VEVENT
DTSTART;TZID=Europe/Paris:20260309T181500
DTEND;TZID=Europe/Paris:20260309T181500
DTSTAMP:20260420T234038
CREATED:20250421T100933Z
LAST-MODIFIED:20260206T093432Z
UID:6066-1773080100-1773080100@lanegaciondesanpedro.es
SUMMARY:Solemne función religiosa por los Hermanos difuntos 2026
DESCRIPTION:18:15 horas. – MISA DE DIFUNTOS – Iglesia de San Nicolás. \nPor el sufragio de las almas de las hermanas y hermanos fallecidos\, oficiada por el M.I. D. PEDRO JOSÉ RUIZ SORIA\, Consiliario de Ntra. Ilustre y Venerable Hermandad y Canónigo de la S.I.C.B. de Cuenca.
URL:https://lanegaciondesanpedro.es/eventos/solemne-funcion-religiosa-por-los-hermanos-difuntos-2026/
LOCATION:Iglesia de San Nicolás\, Cuenca\, Cuenca\, Spain
CATEGORIES:Solemnes Cultos
ATTACH;FMTTYPE=image/jpeg:https://lanegaciondesanpedro.es/wp-content/uploads/2024/02/misa-difuntos-2023-e1739970203734.jpg
END:VEVENT
BEGIN:VEVENT
DTSTART;TZID=Europe/Madrid:20260314T110000
DTEND;TZID=Europe/Madrid:20260314T110000
DTSTAMP:20260420T234038
CREATED:20260122T084912Z
LAST-MODIFIED:20260206T093337Z
UID:7540-1773486000-1773486000@lanegaciondesanpedro.es
SUMMARY:Procesión infantil 2026
DESCRIPTION:DESFILE INFANTIL – desde la Iglesia de San Andrés\, ORGANIZADO POR LA JUNTA DE COFRADÍAS. \nCON LA PARTICIPACIÓN DE LA CANTERA JOVEN de la Asociación Cultural “FLEVIT AMARE” portando LA MAQUETA DEL PASO DE I.V.H DE LA NEGACIÓN DE SAN PEDRO (esculturas en barro obra de nuestro hermano y afamado Maestro Artesano Tomás Bux ). \nMUY IMPORTANTE: El padre\, madre o tutor de aquel hermano o hermana\, hasta los 17 años\, que desee participar en la procesión infantil (bien portando la maqueta\, en las filas o colaborando)\ndeberá contactar con JAVIER PAGE (miembro de la Junta Directiva) al teléfono 615 84 56 06 ANTES DEL 6 DE MARZO.\nDESDE AQUÍ SE EXHORTA A LA PARTICIPACIÓN MASIVA DE LA CANTERA JOVEN DE NUESTRA QUERIDA HERMANDAD \nSolemnes Actos y Cultos_2026 / La Negación de San Pedro.
URL:https://lanegaciondesanpedro.es/eventos/procesion-infantil-2026/
LOCATION:Iglesia de San Andrés\, Cuenca\, Cuenca\, Spain
ATTACH;FMTTYPE=image/jpeg:https://lanegaciondesanpedro.es/wp-content/uploads/2025/04/1745323985812.jpg
END:VEVENT
BEGIN:VEVENT
DTSTART;TZID=Europe/Madrid:20260314T190000
DTEND;TZID=Europe/Madrid:20260314T190000
DTSTAMP:20260420T234038
CREATED:20250421T101122Z
LAST-MODIFIED:20260122T083556Z
UID:6068-1773514800-1773514800@lanegaciondesanpedro.es
SUMMARY:VI Concierto de música sacra y marchas procesionales
DESCRIPTION:19:00 horas. – VI CONCIERTO DE MÚSICA SACRA Y MARCHAS PROCESIONALES – Iglesia de San Pedro– \nORGANIZADO POR LA HERMANDAD. Actuación del CORO SOTTOVOCE  de Cuenca y el Ensamble de Clarinetes Kuen-Clarinet\, con la actuación de la Banda de adultos de la Escuela Municipal de Música y Arte Escénicas de Cuenca. \nDirector: Pepe Llopis. \nEntrada 5€. Aforo Limitado.
URL:https://lanegaciondesanpedro.es/eventos/vi-concierto-de-musica-sacra/
LOCATION:Iglesia de San Pedro\, plaza del trabuco\, Cuenca\, cuenca\, 16001\, Spain
CATEGORIES:Eventos y Actividades de la Hermandad
ATTACH;FMTTYPE=image/jpeg:https://lanegaciondesanpedro.es/wp-content/uploads/2025/03/1743410308842.jpg
END:VEVENT
BEGIN:VEVENT
DTSTART;TZID=Europe/Madrid:20260320T193000
DTEND;TZID=Europe/Madrid:20260320T193000
DTSTAMP:20260420T234038
CREATED:20260122T085446Z
LAST-MODIFIED:20260122T085446Z
UID:7542-1774035000-1774035000@lanegaciondesanpedro.es
SUMMARY:Misa de difuntos JdC.
DESCRIPTION:Viernes 20 a las 19:30 horas. \nParroquia de San Esteban. Misa de difuntos.
URL:https://lanegaciondesanpedro.es/eventos/misa-de-difuntos-jdc/
LOCATION:Iglesia de San Esteban\, Cuenca\, Cuenca\, 16001\, Spain
END:VEVENT
BEGIN:VEVENT
DTSTART;TZID=Europe/Madrid:20260320T203000
DTEND;TZID=Europe/Madrid:20260320T203000
DTSTAMP:20260420T234038
CREATED:20260204T071234Z
LAST-MODIFIED:20260204T073555Z
UID:7583-1774038600-1774038600@lanegaciondesanpedro.es
SUMMARY:Joven Orquesta de Cuenca -VII CONCIERTO MARCHAS PROCESIONALES-
DESCRIPTION:J.O.C. VII CONCIERTO MARCHAS PROCESIONALES\nT.A.C. JOSÉ LUIS PERALES \n\n\n\n\nviernes\, 20 de marzo de 2026 20:30\n\n\nLa Joven Orquesta de Cuenca es una agrupación musical de jóvenes\, con edades comprendidas entre 11 y 30 años\, que fue creada por iniciativa de un grupo de estudiantes en 1991.\nUno de los objetivos principales de la Joven Orquesta de Cuenca es la formación y la preparación profesional de sus jóvenes músicos\, además de fomentar el conocimiento de la música clásica y la convivencia juvenil.Sus componentes proceden principalmente del Conservatorio Profesional “Pedro Aranaz” y de la Escuela Municipal “Ismael Martínez” de Cuenca. Algunos de ellos han destacado por su virtuosismo\, habiendo obtenido premios y matrículas de honor en sus estudios y certámenes musicales de carácter regional y nacional.
URL:https://lanegaciondesanpedro.es/eventos/joven-orquesta-de-cuenca-vii-concierto-marchas-procesionales/
LOCATION:Teatro Auditorio de Cuenca\, Cuenca\, Cuenca\, Spain
ATTACH;FMTTYPE=image/jpeg:https://lanegaciondesanpedro.es/wp-content/uploads/2026/02/132_2.jpg
END:VEVENT
BEGIN:VEVENT
DTSTART;TZID=Europe/Paris:20260321T210000
DTEND;TZID=Europe/Paris:20260321T210000
DTSTAMP:20260420T234038
CREATED:20250421T101239Z
LAST-MODIFIED:20260206T093010Z
UID:6070-1774126800-1774126800@lanegaciondesanpedro.es
SUMMARY:Cena de Banceros y Portainsignias 2026
DESCRIPTION:21:00 horas. CENA DE BANCEROS Y PORTAINSIGNIAS – RTE. POSADA DE SAN JULIÁN- \nNOTA: Retirar la Tarjeta de cena en la Posada San Julián o a través del Secretario de Hermandad antes del 13 de marzo. \n(Aportación: 10€\, según acuerdo unánime de Junta General de 26 de marzo de 2012). \n  \nSolemnes Actos y Cultos_2026 / La Negación de San Pedro.
URL:https://lanegaciondesanpedro.es/eventos/cena-de-banceros-y-portainsignias-2026-2/
LOCATION:Rte. Posada de San Julián\, Cuenca\, Cuenca\, Spain
CATEGORIES:Eventos y Actividades de la Hermandad
ATTACH;FMTTYPE=image/jpeg:https://lanegaciondesanpedro.es/wp-content/uploads/2025/03/WhatsApp-Image-2025-03-24-at-15.43.25.jpeg
END:VEVENT
BEGIN:VEVENT
DTSTART;TZID=Europe/Paris:20260323T203000
DTEND;TZID=Europe/Paris:20260323T203000
DTSTAMP:20260420T234038
CREATED:20250421T095351Z
LAST-MODIFIED:20260122T085032Z
UID:6049-1774297800-1774297800@lanegaciondesanpedro.es
SUMMARY:Junta General de la Junta de Cofradías 2026
DESCRIPTION:Con la asistencia de Sr. Obispo y Sr. Alcalde.
URL:https://lanegaciondesanpedro.es/eventos/junta-general-de-la-junta-de-cofradias-2026/
LOCATION:Edificio Museo de la Junta de Cofradías\, C/ Andrés de Cabrera\, 13\, Cuenca\, Cuenca\, Spain
CATEGORIES:Juntas Generales
ATTACH;FMTTYPE=image/jpeg:https://lanegaciondesanpedro.es/wp-content/uploads/2025/02/junta-general-cofradias-cuenca.jpg
END:VEVENT
BEGIN:VEVENT
DTSTART;TZID=Europe/Helsinki:20260327T180000
DTEND;TZID=Europe/Helsinki:20260327T180000
DTSTAMP:20260420T234038
CREATED:20250421T095117Z
LAST-MODIFIED:20250421T095126Z
UID:6045-1774634400-1774634400@lanegaciondesanpedro.es
SUMMARY:Viernes de Dolores 2026
DESCRIPTION:ERMITA DE NTRA. SRA. DE LAS ANGUSTIAS \n18:00 h. Función Solemne presidida por el Excmo. Rvdmo. Mons. José María Yanguas Sanz\, Obispo de la Diócesis. \nCon asistencia de autoridades de la Corporación Municipal y de la Excma. Diputación Provincial
URL:https://lanegaciondesanpedro.es/eventos/viernes-de-dolores-2026/
LOCATION:Ermita de Nuestra Señora de las Angustias\, Bajada Angustias\, 4\, Cuenca\, cuenca\, 16001\, Spain
ATTACH;FMTTYPE=image/jpeg:https://lanegaciondesanpedro.es/wp-content/uploads/2025/04/descarga-1.jpg
END:VEVENT
BEGIN:VEVENT
DTSTART;TZID=Europe/Madrid:20260327T200000
DTEND;TZID=Europe/Madrid:20260327T200000
DTSTAMP:20260420T234038
CREATED:20260122T085844Z
LAST-MODIFIED:20260122T085844Z
UID:7545-1774641600-1774641600@lanegaciondesanpedro.es
SUMMARY:Pregón oficial de la Semana Santa 2026.
DESCRIPTION:Pregón oficial de la Semana Santa. \nEl obispo de la Diócesis\, monseñor José María Yanguas\, pregonará la Semana Santa de Cuenca de 2026
URL:https://lanegaciondesanpedro.es/eventos/pregon-oficial-de-la-semana-santa-2026/
LOCATION:Teatro Auditorio de Cuenca\, Cuenca\, Cuenca\, Spain
ATTACH;FMTTYPE=image/jpeg:https://lanegaciondesanpedro.es/wp-content/uploads/2026/01/mid_1332-335-el-obispo-la-diocesis-monsenor-jose-maria-yanguas-pregonara-la-semana-santa-cuenca-2026.jpg
END:VEVENT
BEGIN:VEVENT
DTSTART;VALUE=DATE:20260401
DTEND;VALUE=DATE:20260402
DTSTAMP:20260420T234038
CREATED:20250421T094808Z
LAST-MODIFIED:20260206T093137Z
UID:6040-1775001600-1775087999@lanegaciondesanpedro.es
SUMMARY:MIÉRCOLES SANTO 2026
DESCRIPTION:Iglesia de San Pedro\n\n10:00 horas. – PUESTA EN ANDAS –\n19:30 horas. – TALLAJE DE BANCEROS – Citación a banceros y portainsignias\, se ruega PUNTUALIDAD.\n21:00 horas. – SOLEMNE FUNCIÓN RELIGIOSA –  Hermandades que componen el cortejo «Del Silencio» desde la Iglesia de San Pedro.\n22:00 horas. – DESFILE PROCESIONAL – Túnica morada\, capuz blanco con escudo de la Hdad. a la altura del pecho\, guantes blancos\, cíngulo blanco y ZAPATO NEGRO.\n\nSolemnes Actos y Cultos_2026 / La Negación de San Pedro.
URL:https://lanegaciondesanpedro.es/eventos/miercoles-santo-2026/
LOCATION:Iglesia de San Pedro\, plaza del trabuco\, Cuenca\, cuenca\, 16001\, Spain
CATEGORIES:Actos Cuaresmales
ATTACH;FMTTYPE=image/jpeg:https://lanegaciondesanpedro.es/wp-content/uploads/2025/01/DSC0590-1.jpg
END:VEVENT
BEGIN:VEVENT
DTSTART;TZID=Europe/Paris:20260425T173000
DTEND;TZID=Europe/Paris:20260425T173000
DTSTAMP:20260420T234038
CREATED:20250421T101433Z
LAST-MODIFIED:20260206T092759Z
UID:6072-1777138200-1777138200@lanegaciondesanpedro.es
SUMMARY:Segunda Junta General Ordinaria de la Hermandad -de Subastas y Cuentas- 2026
DESCRIPTION:17:00 horas. JUNTA GENERAL ORDINARIA. «De Subastas y Cuentas«. \nSALA DE JUNTAS MARCO PÉREZ. Edificio Museo de la JdC\, Piso 3º (entrada por la Calle del Peso). \nPuntos a tratar\, entre otros: \nLectura y aprobación\, si procede\, del borrador del acta de la sesión anterior. Alocución del M.I. Consiliario de nuestra Hermandad. \nInformes de la Junta de Diputación (del Representante ante la Junta de Cofradías\, de Tesorería y del Secretario). \nNombramiento de Hermanos Mayores\, cereros y banzos de turno año 2027. \nSubasta de Banzos y enseres para la procesión de 2027. \nSolemnes Actos y Cultos_2026 / La Negación de San Pedro. \nRuegos y Preguntas.
URL:https://lanegaciondesanpedro.es/eventos/segunda-junta-general-ordinaria-de-la-hermandad-de-subastas-y-cuentas-2026/
LOCATION:Edificio Museo de la Junta de Cofradías\, C/ Andrés de Cabrera\, 13\, Cuenca\, Cuenca\, Spain
CATEGORIES:Juntas Generales
ATTACH;FMTTYPE=image/jpeg:https://lanegaciondesanpedro.es/wp-content/uploads/2025/04/Actos2026_portada.jpg
END:VEVENT
END:VCALENDAR